BEGIN:VCALENDAR
VERSION:2.0
PRODID:-//Library Market//iCal Export//EN
BEGIN:VEVENT
SUMMARY:Slime+ Saturdays
UID:77882
DTSTAMP:20260424T183100Z
DTSTART:20260606T143000Z
DTEND:20260606T150000Z
LOCATION:New City Library, 220 N. Main Street, New City, NY 10956, United 
 States
ROOM: Create Space
DESCRIPTION:Calling all slime lovers! Join Miss Cathy to connect with othe
 r kids who love creating and playing with slime! Learn how to make a fun n
 ew slime or dough each month!  
URL:https://newcity.librarycalendar.com/event/slime-saturdays-77882
END:VEVENT
END:VCALENDAR
