BEGIN:VCALENDAR
VERSION:2.0
PRODID:-//Library Market//iCal Export//EN
BEGIN:VEVENT
SUMMARY:Lego Builders
UID:77149
DTSTAMP:20260423T205500Z
DTSTART:20260622T200000Z
DTEND:20260622T204500Z
LOCATION:New City Library, 220 N. Main Street, New City, NY 10956, United 
 States
ROOM: Little Tor - Full Room
DESCRIPTION:Lego builders!  Bring your imagination and meet our building 
 challenge! We supply the bricks and a new challenge at each session. 
URL:https://newcity.librarycalendar.com/event/lego-builders-77149
END:VEVENT
END:VCALENDAR
